BEGIN:VCALENDAR
VERSION:2.0
PRODID:-//Cycassel  - ECPv6.15.20//NONSGML v1.0//EN
CALSCALE:GREGORIAN
METHOD:PUBLISH
X-ORIGINAL-URL:https://cycassel.org
X-WR-CALDESC:Veranstaltungen für Cycassel 
REFRESH-INTERVAL;VALUE=DURATION:PT1H
X-Robots-Tag:noindex
X-PUBLISHED-TTL:PT1H
BEGIN:VTIMEZONE
TZID:Europe/Berlin
BEGIN:DAYLIGHT
TZOFFSETFROM:+0100
TZOFFSETTO:+0200
TZNAME:CEST
DTSTART:20250330T010000
END:DAYLIGHT
BEGIN:STANDARD
TZOFFSETFROM:+0200
TZOFFSETTO:+0100
TZNAME:CET
DTSTART:20251026T010000
END:STANDARD
BEGIN:DAYLIGHT
TZOFFSETFROM:+0100
TZOFFSETTO:+0200
TZNAME:CEST
DTSTART:20260329T010000
END:DAYLIGHT
BEGIN:STANDARD
TZOFFSETFROM:+0200
TZOFFSETTO:+0100
TZNAME:CET
DTSTART:20261025T010000
END:STANDARD
BEGIN:DAYLIGHT
TZOFFSETFROM:+0100
TZOFFSETTO:+0200
TZNAME:CEST
DTSTART:20270328T010000
END:DAYLIGHT
BEGIN:STANDARD
TZOFFSETFROM:+0200
TZOFFSETTO:+0100
TZNAME:CET
DTSTART:20271031T010000
END:STANDARD
END:VTIMEZONE
BEGIN:VEVENT
DTSTART;TZID=Europe/Berlin:20260516T100000
DTEND;TZID=Europe/Berlin:20260517T140000
DTSTAMP:20260424T214005
CREATED:20260401T124223Z
LAST-MODIFIED:20260407T121208Z
UID:5643-1778925600-1779026400@cycassel.org
SUMMARY:Bikepacking Overnighter FLINTA*
DESCRIPTION:Raus aus dem Alltag\, rein ins Abenteuer: Am 16./17. Mai bieten wir eine Bikepacking-Tour von\, für und mit FLINTA*-Personen an. Wir möchten einen geschützten und solidarischen Raum auf dem Rad schaffen und mehr FLINTA* Personen für das Rad/-Reisen begeistern. Dabei fahren wir gemeinsam\, rücksichtsvoll und ohne Leistungsdruck zur Hubertushütte (nahe des Habichtswalds)\, genießen Natur\, Lagerfeuer und den Austausch über große und kleine Fahrradabenteuer. \nFür die Teilnahme ist eine vorherige Anmeldung benötigt. Maximal 15 Personen können am Bikepacking teilnehmen! \nWeitere Informationen zur Veranstaltung und Anmeldung finden Sie hier: Bikepacking-Overnighter-FLINTA*
URL:https://cycassel.org/event/bikepacking-overnighter-flinta/
LOCATION:Science Park Kassel\, Universitätsplatz 12\, Kassel\, 34127
CATEGORIES:Kasseler Radwochen 2026
ATTACH;FMTTYPE=image/jpeg:https://cycassel.org/wp-content/uploads/2025/02/Bikepacking-Titelbild-_2-e1775047207559.jpg
ORGANIZER;CN="Cycassel":MAILTO:cycassel@uni-kassel.de
END:VEVENT
END:VCALENDAR