BEGIN:VCALENDAR
VERSION:2.0
PRODID:-//Cycassel  - ECPv6.15.20//NONSGML v1.0//EN
CALSCALE:GREGORIAN
METHOD:PUBLISH
X-WR-CALNAME:Cycassel 
X-ORIGINAL-URL:https://cycassel.org
X-WR-CALDESC:Veranstaltungen für Cycassel 
REFRESH-INTERVAL;VALUE=DURATION:PT1H
X-Robots-Tag:noindex
X-PUBLISHED-TTL:PT1H
BEGIN:VTIMEZONE
TZID:Europe/Berlin
BEGIN:DAYLIGHT
TZOFFSETFROM:+0100
TZOFFSETTO:+0200
TZNAME:CEST
DTSTART:20250330T010000
END:DAYLIGHT
BEGIN:STANDARD
TZOFFSETFROM:+0200
TZOFFSETTO:+0100
TZNAME:CET
DTSTART:20251026T010000
END:STANDARD
BEGIN:DAYLIGHT
TZOFFSETFROM:+0100
TZOFFSETTO:+0200
TZNAME:CEST
DTSTART:20260329T010000
END:DAYLIGHT
BEGIN:STANDARD
TZOFFSETFROM:+0200
TZOFFSETTO:+0100
TZNAME:CET
DTSTART:20261025T010000
END:STANDARD
BEGIN:DAYLIGHT
TZOFFSETFROM:+0100
TZOFFSETTO:+0200
TZNAME:CEST
DTSTART:20270328T010000
END:DAYLIGHT
BEGIN:STANDARD
TZOFFSETFROM:+0200
TZOFFSETTO:+0100
TZNAME:CET
DTSTART:20271031T010000
END:STANDARD
END:VTIMEZONE
BEGIN:VEVENT
DTSTART;TZID=Europe/Berlin:20260508T100000
DTEND;TZID=Europe/Berlin:20260508T120000
DTSTAMP:20260424T213809
CREATED:20260409T145504Z
LAST-MODIFIED:20260420T210030Z
UID:6072-1778234400-1778241600@cycassel.org
SUMMARY:Hop-On Hop-Off / Bike Line
DESCRIPTION:Kassel neu erleben – aktiv\, nachhaltig und flexibel. Unser Projekt „Hop-On Hop-Off“ verbindet eine klassische Stadtführung mit moderner und zugleich umweltfreundlicher Mobilität. Statt im Bus erkunden die Teilnehmenden die Stadt mit dem Fahrrad und können an verschiedenen Stationen flexibel ein- und aussteigen. Begleitet wird die Tour durch spannende Informationen zu Kassel. \nWichtig: Für die Veranstaltung ist eine vorherige Anmeldung per Mail nötig (Anmeldungen an bikeline@outlook.de). Zudem beträgt die Teilnahmegebühr 2 €. \nWeitere Informationen zur Veranstaltung und Anmeldung finden Sie hier: Bike-lane 
URL:https://cycassel.org/event/hop-on-hop-off-bike-line/
LOCATION:Uni:Lokal\, Wilhelmsstraße 21\, Kassel\, 34117\, Germany
CATEGORIES:Kasseler Radwochen 2026
ATTACH;FMTTYPE=image/png:https://cycassel.org/wp-content/uploads/2026/04/Bildschirmfoto-2026-04-09-um-16.32.29-e1775745287939.png
ORGANIZER;CN="Cycassel":MAILTO:cycassel@uni-kassel.de
END:VEVENT
BEGIN:VEVENT
DTSTART;TZID=Europe/Berlin:20260508T120000
DTEND;TZID=Europe/Berlin:20260508T180000
DTSTAMP:20260424T213809
CREATED:20260401T101946Z
LAST-MODIFIED:20260421T162836Z
UID:5593-1778241600-1778263200@cycassel.org
SUMMARY:Bike-Fitting (2. Termin)
DESCRIPTION:Mach dein Bike fit für mehr Sicherheit\, Komfort und Fahrspaß! Unsere Bike-Coaches prüfen Technik\, Ausstattung und ergonomische Passform direkt vor Ort – inklusive individueller Anpassungen. Du erfährst\, wie du dein Rad optimal auf deinen Körper und Fahrstil abstimmst. Mit deinem persönlichen „Bike-Fitting-Pass“ bist du bestens gerüstet\, um Gesundheit und Fitness auf zwei Rädern zu steigern. \nWichtig: Die Veranstaltung erfordert eine vorherige Anmeldung ! \nWeitere Informationen sowie die Anmeldung finden Sie hier: Bike-Fitting
URL:https://cycassel.org/event/bike-fitting-2-termin/
LOCATION:Uni:Lokal\, Wilhelmsstraße 21\, Kassel\, 34117\, Germany
CATEGORIES:Kasseler Radwochen 2026
ATTACH;FMTTYPE=image/jpeg:https://cycassel.org/wp-content/uploads/2025/02/1_Bike-Fitting-9273-e1775038575165.jpeg
ORGANIZER;CN="Cycassel":MAILTO:cycassel@uni-kassel.de
END:VEVENT
BEGIN:VEVENT
DTSTART;TZID=Europe/Berlin:20260508T193000
DTEND;TZID=Europe/Berlin:20260508T230000
DTSTAMP:20260424T213809
CREATED:20260206T120354Z
LAST-MODIFIED:20260420T211844Z
UID:5215-1778268600-1778281200@cycassel.org
SUMMARY:Radnacht
DESCRIPTION:Auch in diesem Jahr findet im Rahmen der Kasseler Radwochen wieder die Radnacht statt! Am 08.05.2026 radeln wir wieder gemeinsam im Dunkeln durch Kassel. Nach einer Strecke von etwa 15 km\, enden wir an der Markthalle\, wo gekühlte Getränke und Musik auf uns warten. Hier lassen wir den Abend entspannt ausklingen. \nKommt vorbei und radelt mit! Wir freuen uns auf Euch! \nWeitere Informationen zur Veranstaltung finden Sie hier: Radnacht \n 
URL:https://cycassel.org/event/radnacht-2/
LOCATION:Friedrichsplatz\, Friedrichsplatz\, Kassel\, 34117\, Germany
CATEGORIES:Kasseler Radwochen 2026
ATTACH;FMTTYPE=image/png:https://cycassel.org/wp-content/uploads/2024/04/IMG_6592-4018220260-e1775039319199.png
ORGANIZER;CN="Cycassel":MAILTO:cycassel@uni-kassel.de
END:VEVENT
END:VCALENDAR